BEGIN:VCALENDAR
VERSION:2.0
PRODID:liste-luedersdorf.fuer-die-gruenen.de
METHOD:PUBLISH
BEGIN:VTIMEZONE
TZID:Europe/Berlin
X-LIC-LOCATION:Europe/Berlin
BEGIN:DAYLIGHT
TZOFFSETFROM:+0100
TZOFFSETTO:+0200
TZNAME:CEST
DTSTART:19700329T020000
RRULE:FREQ=YEARLY;INTERVAL=1;BYDAY=-1SU;BYMONTH=3
END:DAYLIGHT
BEGIN:STANDARD
TZOFFSETFROM:+0200
TZOFFSETTO:+0100
TZNAME:CET
DTSTART:19701025T030000
RRULE:FREQ=YEARLY;INTERVAL=1;BYDAY=-1SU;BYMONTH=10
END:STANDARD
END:VTIMEZONE
BEGIN:VEVENT
UID:c4015b9957f40709bdbf1d34d7469b80@liste-luedersdorf.fuer-die-gruenen.de
URL;VALUE=URI:https://liste-luedersdorf.fuer-die-gruenen.de/termine/vorst
 andssitzung-2/
LOCATION:online
SUMMARY:Vorstandssitzung
DESCRIPTION;ALTREP="data:text/html,%3Cp%3EDie%20Vorstandssitzungen%20des%
 20Kreisverbands%20Nordwestmecklenburg%20sind%20Mitglieder%C3%B6ffentlich.
 %20Wenn%20Du%20an%20einer%20Vorstandssitzung%20teilnehmen%20m%C3%B6chtest
 %20um%20ein%20Thema%20einzubringen%20oder%20einfach%20nur%20um%20mal%20re
 inzuschnuppern%2C%20melde%20Dich%20gern%20bei%20unserer%20Gesch%C3%A4ftsf
 %C3%BChrerin%20Hanna%20%28gf%40gruene-nordwestmecklenburg.de%29.%20Sie%20
 sendet%20Dir%20dann%20den%20Einwahllink%20f%C3%BCr%20die%20Sitzung.%3Cbr%
 20%2F%3E%0A%3Cbr%20%2F%3E%0ADie%20Vorstandssitzungen%20finden%20ca.%2014%
 20t%C3%A4gig%20online%20statt.%201x%2FQuartal%20findet%20die%20Vorstandds
 itzung%20in%20Pr%C3%A4senz%20statt.%20%3Cbr%20%2F%3E%0A%3C%2Fp%3E":Die Vo
 rstandssitzungen des Kreisverbands Nordwestmecklenburg sind Mitgliederöf
 fentlich. Wenn Du an einer Vorstandssitzung teilnehmen möchtest um ein T
 hema einzubringen oder einfach nur um mal reinzuschnuppern\, melde Dich g
 ern bei unserer Geschäftsführerin Hanna (gf@gruene-nordwestmecklenburg.
 de). Sie sendet Dir dann den Einwahllink für die Sitzung.\n\nDie Vorstan
 dssitzungen finden ca. 14 tägig online statt. 1x/Quartal findet die Vors
 tanddsitzung in Präsenz statt.
CLASS:PUBLIC
DTSTART;TZID=Europe/Berlin:20260615T190000
DTEND;TZID=Europe/Berlin:20260615T200000
DTSTAMP:20260421T130946
END:VEVENT
END:VCALENDAR