BEGIN:VCALENDAR
VERSION:2.0
PRODID:liste-luedersdorf.fuer-die-gruenen.de
METHOD:PUBLISH
BEGIN:VTIMEZONE
TZID:Europe/Berlin
X-LIC-LOCATION:Europe/Berlin
BEGIN:DAYLIGHT
TZOFFSETFROM:+0100
TZOFFSETTO:+0200
TZNAME:CEST
DTSTART:19700329T020000
RRULE:FREQ=YEARLY;INTERVAL=1;BYDAY=-1SU;BYMONTH=3
END:DAYLIGHT
BEGIN:STANDARD
TZOFFSETFROM:+0200
TZOFFSETTO:+0100
TZNAME:CET
DTSTART:19701025T030000
RRULE:FREQ=YEARLY;INTERVAL=1;BYDAY=-1SU;BYMONTH=10
END:STANDARD
END:VTIMEZONE
BEGIN:VEVENT
UID:0b7b484bdce583370db469c09f140001@liste-luedersdorf.fuer-die-gruenen.de
URL;VALUE=URI:https://liste-luedersdorf.fuer-die-gruenen.de/termine/lande
 sdelegiertenkonferenz-parteiprogramm/
LOCATION:Stralsund
SUMMARY:Landesdelegiertenkonferenz (Parteiprogramm)
DESCRIPTION;ALTREP="data:text/html,%3Cp%3E%3C%2Fp%3E":
CLASS:PUBLIC
DTSTART;TZID=Europe/Berlin:20260606T100000
DTEND;TZID=Europe/Berlin:20260606T180000
DTSTAMP:20260421T143046
END:VEVENT
END:VCALENDAR