BEGIN:VCALENDAR
VERSION:2.0
PRODID:liste-luedersdorf.fuer-die-gruenen.de
METHOD:PUBLISH
BEGIN:VTIMEZONE
TZID:Europe/Berlin
X-LIC-LOCATION:Europe/Berlin
BEGIN:DAYLIGHT
TZOFFSETFROM:+0100
TZOFFSETTO:+0200
TZNAME:CEST
DTSTART:19700329T020000
RRULE:FREQ=YEARLY;INTERVAL=1;BYDAY=-1SU;BYMONTH=3
END:DAYLIGHT
BEGIN:STANDARD
TZOFFSETFROM:+0200
TZOFFSETTO:+0100
TZNAME:CET
DTSTART:19701025T030000
RRULE:FREQ=YEARLY;INTERVAL=1;BYDAY=-1SU;BYMONTH=10
END:STANDARD
END:VTIMEZONE
BEGIN:VEVENT
UID:f2eefab7f5b5085ec59f890ba4cb58a1@liste-luedersdorf.fuer-die-gruenen.de
URL;VALUE=URI:https://liste-luedersdorf.fuer-die-gruenen.de/termine/gruen
 er-schnack-im-schoenberger-land-7/
LOCATION:Hofcafé, Hauptstraße 28, 23923 Palingen
SUMMARY:Grüner Schnack im Schönberger Land
DESCRIPTION;ALTREP="data:text/html,%3Cp%3EEs%20gibt%20immer%20viel%20zu%2
 0besprechen%20und%20der%20Austausch%20ist%20oft%20%3Cbr%20%2F%3E%0Arichti
 g%20spannend.%20Egal%20ob%20Ihr%20gr%C3%BCn%20engagiert%20seid%20oder%20e
 infach%20neugierig%20auf%20unsere%20Themen%20%E2%80%93%20kommt%20dazu.%20
 %3Cbr%20%2F%3E%0A%3Cbr%20%2F%3E%0AWir%20laden%20Euch%20ein%2C%20zu%20plau
 dern%2C%20Ideen%2C%20Erfahrungen%20und%20%3Cbr%20%2F%3E%0AAnliegen%20mite
 inander%20auszu%C2%ADtauschen%20und%20neue%20Perspektiven%20%3Cbr%20%2F%3
 E%0Azu%20entwickeln.%3Cbr%20%2F%3E%0AWir%20freuen%20uns%20auf%20Euch%21%3
 Cbr%20%2F%3E%0A%3Cbr%20%2F%3E%0AUnsere%20Gr%C3%BCnen%20Schnacks%20finden%
 20immer%20am%20letzten%20Montag%20des%20Monats%20statt%20%28au%C3%9Fer%20
 im%20Dezember%20%3B-%29%3Cbr%20%2F%3E%0A%3Cbr%20%2F%3E%0AGern%20Getr%C3%A
 4nke%20und%20etwas%20zu%20knabbern%20mitbringen%2C%20denn%20das%20Caf%C3%
 A9%20ist%20nicht%20bewirtschaftet.%3Cbr%20%2F%3E%0A%3Cbr%20%2F%3E%0AAlle%
 20Termine%20auch%20auf%3A%20%09gruene-luedersdorf.de%20und%3Cbr%20%2F%3E%
 0A%09%09%09%09%09gruene-nordwestmecklenburg.de%3Cbr%20%2F%3E%0A%3Cbr%20%2
 F%3E%0A%3C%2Fp%3E":Es gibt immer viel zu besprechen und der Austausch ist
  oft\n\nrichtig spannend. Egal ob Ihr grün engagiert seid oder einfach n
 eugierig auf unsere Themen – kommt dazu.\n\nWir laden Euch ein\, zu pla
 udern\, Ideen\, Erfahrungen und\n\nAnliegen miteinander auszu­tauschen u
 nd neue Perspektiven\n\nzu entwickeln.\n\nWir freuen uns auf Euch!\n\nUns
 ere Grünen Schnacks finden immer am letzten Montag des Monats statt (au
 ßer im Dezember \;-)\n\nGern Getränke und etwas zu knabbern mitbringen\
 , denn das Café ist nicht bewirtschaftet.\n\nAlle Termine auch auf: 	gru
 ene-luedersdorf.de und\n\n					gruene-nordwestmecklenburg.de
CLASS:PUBLIC
DTSTART;TZID=Europe/Berlin:20260928T190000
DTEND;TZID=Europe/Berlin:20260928T210000
DTSTAMP:20260421T145311
END:VEVENT
END:VCALENDAR