BEGIN:VCALENDAR
VERSION:2.0
PRODID:liste-luedersdorf.fuer-die-gruenen.de
METHOD:PUBLISH
BEGIN:VTIMEZONE
TZID:Europe/Berlin
X-LIC-LOCATION:Europe/Berlin
BEGIN:DAYLIGHT
TZOFFSETFROM:+0100
TZOFFSETTO:+0200
TZNAME:CEST
DTSTART:19700329T020000
RRULE:FREQ=YEARLY;INTERVAL=1;BYDAY=-1SU;BYMONTH=3
END:DAYLIGHT
BEGIN:STANDARD
TZOFFSETFROM:+0200
TZOFFSETTO:+0100
TZNAME:CET
DTSTART:19701025T030000
RRULE:FREQ=YEARLY;INTERVAL=1;BYDAY=-1SU;BYMONTH=10
END:STANDARD
END:VTIMEZONE
BEGIN:VEVENT
UID:993b16ca9c093294d3a845a3cd0a7ecd@liste-luedersdorf.fuer-die-gruenen.de
URL;VALUE=URI:https://liste-luedersdorf.fuer-die-gruenen.de/termine/frakt
 ionssitzung/
LOCATION:
SUMMARY:Fraktionssitzung
DESCRIPTION;ALTREP="data:text/html,%3Cp%3EUnsere%20b%C3%BCndnisgr%C3%BCne
 n%20Fraktionssitzungen%20sind%20offen%3A%20%20Interessierte%20G%C3%A4ste%
 20sind%20herzlich%20willkommen%21%3Cbr%20%2F%3E%0A%3Cbr%20%2F%3E%0AF%C3%B
 Cr%20Nachfragen%20oder%20Teilnahme%C2%A0wendet%20Euch%20gern%20unter%C2%A
 0luedersdorf%40gruene-nordwestmecklenburg.de%C2%A0an%20die%20Fraktion.%3C
 %2Fp%3E":Unsere bündnisgrünen Fraktionssitzungen sind offen:  Interessi
 erte Gäste sind herzlich willkommen!\n\nFür Nachfragen oder Teilnahme 
 wendet Euch gern unter luedersdorf@gruene-nordwestmecklenburg.de an die
  Fraktion.
CLASS:PUBLIC
DTSTART;TZID=Europe/Berlin:20260720T190000
DTEND;TZID=Europe/Berlin:20260720T210000
DTSTAMP:20260421T151335
END:VEVENT
END:VCALENDAR