BEGIN:VCALENDAR
VERSION:2.0
PRODID:liste-luedersdorf.fuer-die-gruenen.de
METHOD:PUBLISH
BEGIN:VTIMEZONE
TZID:Europe/Berlin
X-LIC-LOCATION:Europe/Berlin
BEGIN:DAYLIGHT
TZOFFSETFROM:+0100
TZOFFSETTO:+0200
TZNAME:CEST
DTSTART:19700329T020000
RRULE:FREQ=YEARLY;INTERVAL=1;BYDAY=-1SU;BYMONTH=3
END:DAYLIGHT
BEGIN:STANDARD
TZOFFSETFROM:+0200
TZOFFSETTO:+0100
TZNAME:CET
DTSTART:19701025T030000
RRULE:FREQ=YEARLY;INTERVAL=1;BYDAY=-1SU;BYMONTH=10
END:STANDARD
END:VTIMEZONE
BEGIN:VEVENT
UID:3e89584f313c0ea74c149ad359a253d5@liste-luedersdorf.fuer-die-gruenen.de
URL;VALUE=URI:https://liste-luedersdorf.fuer-die-gruenen.de/termine/einla
 dung-zum-vogelspaziergang/
LOCATION:Herrnburg
SUMMARY:Einladung zum Vogelspaziergang
DESCRIPTION;ALTREP="data:text/html,%3Cp%3ELiebe%20Naturfreund%3Ainnen%2C%
 3Cbr%20%2F%3E%0A%3Cbr%20%2F%3E%0Ader%20Fr%C3%BChling%20steht%20in%20volle
 r%20Bl%C3%BCte%20%E2%80%93%20und%20mit%20ihm%20kehrt%20auch%20die%20vielf
 %C3%A4ltige%20Vogelwelt%20in%20unsere%20Umgebung%20zur%C3%BCck.%20Das%20m
 %C3%B6chten%20wir%20gemeinsam%20mit%20euch%20erleben%21%3Cbr%20%2F%3E%0AW
 ir%20laden%20euch%20herzlich%20zu%20einem%20besonderen%20Vogelspaziergang
 %20in%20unserer%20Gemeinde%20L%C3%BCdersdorf%20ein.%20Begleitet%20werden%
 20wir%20von%20Stefan%20Vens%2C%20einem%20erfahrenen%20Vogelkartierer%2C%2
 0der%20uns%20mit%20seinem%20Wissen%20und%20einem%20geschulten%20Ohr%20die
 %20faszinierende%20Welt%20der%20heimischen%20V%C3%B6gel%20n%C3%A4herbring
 t.%3Cbr%20%2F%3E%0A%3Cbr%20%2F%3E%0A%F0%9F%93%85%20Wann%3F%20Freitag%2001
 .%20Mai%20um%208%3A00%20Uhr%2C%20denn%20zu%20der%20Zeit%20singen%20die%20
 V%C3%B6gel%20am%20sch%C3%B6nsten%21%3Cbr%20%2F%3E%0A%F0%9F%93%8D%20Wo%3F%
 20Herrnburg%2C%20Stra%C3%9Fe%20Schattin%2C%20Wald-Parkplatz%2C%20nahe%20d
 em%20Pomertstein.%20%3Cbr%20%2F%3E%0A%3Cbr%20%2F%3E%0AGemeinsam%20wollen%
 20wir%20beobachten%2C%20entdecken%20und%20der%20Natur%20zuh%C3%B6ren%20%E
 2%80%93%20ganz%20entspannt%20in%20der%20sch%C3%B6nen%20und%20vielf%C3%A4l
 tigen%20Landschaft%20zwischen%20Wakenitz%2C%20Binnend%C3%BCne%20und%20dem
 %20Schattiner%20Forst%20lauschieren%20%28lauschen%20und%20spazieren%29.%2
 0Ob%20ihr%20euch%20schon%20gut%20auskennt%20oder%20einfach%20neugierig%20
 seid%3A%20Alle%20sind%20willkommen%21%3Cbr%20%2F%3E%0ABringt%20gerne%20we
 tterfeste%20Kleidung%2C%20etwas%20Zeit%20und%20gute%20Laune%20mit.%20Wer%
 20ein%20Fernglas%20hat%2C%20darf%20es%20nat%C3%BCrlich%20auch%20nicht%20v
 ergessen.%3Cbr%20%2F%3E%0AWir%20freuen%20uns%20auf%20einen%20lebendigen%2
 C%20fr%C3%B6hlichen%20Spaziergang%20mit%20euch%2C%20f%C3%BCr%20den%20wir%
 20ca.%202%20Std.%20vorsehen.%3Cbr%20%2F%3E%0AEintriff%20frei%2C%20Spende%
 20erbeten.%3Cbr%20%2F%3E%0A%3Cbr%20%2F%3E%0AWer%20im%20Anschluss%20noch%2
 0Lust%20auf%20ein%20ausgedehntes%20gemeinsames%20Picknick%20%28bis%20max.
 %2012%20Uhr%29%20hat%2C%20bringe%20auch%20daf%C3%BCr%20etwas%20mit%21%3Cb
 r%20%2F%3E%0A%3Cbr%20%2F%3E%0AHerzlich%2C%20Stefan%20und%20Nils%3Cbr%20%2
 F%3E%0A%3C%2Fp%3E":Liebe Naturfreund:innen\,\n\nder Frühling steht in vo
 ller Blüte – und mit ihm kehrt auch die vielfältige Vogelwelt in unse
 re Umgebung zurück. Das möchten wir gemeinsam mit euch erleben!\n\nWir 
 laden euch herzlich zu einem besonderen Vogelspaziergang in unserer Gemei
 nde Lüdersdorf ein. Begleitet werden wir von Stefan Vens\, einem erfahre
 nen Vogelkartierer\, der uns mit seinem Wissen und einem geschulten Ohr d
 ie faszinierende Welt der heimischen Vögel näherbringt.\n\n📅 Wann? F
 reitag 01. Mai um 8:00 Uhr\, denn zu der Zeit singen die Vögel am schön
 sten!\n\n📍 Wo? Herrnburg\, Straße Schattin\, Wald-Parkplatz\, nahe de
 m Pomertstein.\n\nGemeinsam wollen wir beobachten\, entdecken und der Nat
 ur zuhören – ganz entspannt in der schönen und vielfältigen Landscha
 ft zwischen Wakenitz\, Binnendüne und dem Schattiner Forst lauschieren (
 lauschen und spazieren). Ob ihr euch schon gut auskennt oder einfach neug
 ierig seid: Alle sind willkommen!\n\nBringt gerne wetterfeste Kleidung\, 
 etwas Zeit und gute Laune mit. Wer ein Fernglas hat\, darf es natürlich 
 auch nicht vergessen.\n\nWir freuen uns auf einen lebendigen\, fröhliche
 n Spaziergang mit euch\, für den wir ca. 2 Std. vorsehen.\n\nEintriff fr
 ei\, Spende erbeten.\n\nWer im Anschluss noch Lust auf ein ausgedehntes g
 emeinsames Picknick (bis max. 12 Uhr) hat\, bringe auch dafür etwas mit!
 \n\nHerzlich\, Stefan und Nils
CLASS:PUBLIC
DTSTART;TZID=Europe/Berlin:20260501T080000
DTEND;TZID=Europe/Berlin:20260501T100000
DTSTAMP:20260421T145157
END:VEVENT
END:VCALENDAR