BEGIN:VCALENDAR
VERSION:2.0
PRODID:liste-luedersdorf.fuer-die-gruenen.de
METHOD:PUBLISH
BEGIN:VTIMEZONE
TZID:Europe/Berlin
X-LIC-LOCATION:Europe/Berlin
BEGIN:DAYLIGHT
TZOFFSETFROM:+0100
TZOFFSETTO:+0200
TZNAME:CEST
DTSTART:19700329T020000
RRULE:FREQ=YEARLY;INTERVAL=1;BYDAY=-1SU;BYMONTH=3
END:DAYLIGHT
BEGIN:STANDARD
TZOFFSETFROM:+0200
TZOFFSETTO:+0100
TZNAME:CET
DTSTART:19701025T030000
RRULE:FREQ=YEARLY;INTERVAL=1;BYDAY=-1SU;BYMONTH=10
END:STANDARD
END:VTIMEZONE
BEGIN:VEVENT
UID:09477b11a9b6cf199b30616d63d709d5@liste-luedersdorf.fuer-die-gruenen.de
URL;VALUE=URI:https://liste-luedersdorf.fuer-die-gruenen.de/termine/ag-wa
 hlkampf/
LOCATION:Zoom
SUMMARY:AG Wahlkampf
DESCRIPTION;ALTREP="data:text/html,%3Cp%3EDie%20AG%20Wahlkampf%20trifft%2
 0sich%20alle%202%20Wochen%20online.%20Wenn%20Du%20Dich%20engagieren%20m%C
 3%B6chtest%20melde%20Dich%20gern%20per%20mail%20bei%20info%40gruene-nordw
 estmecklenburg.de%3C%2Fp%3E":Die AG Wahlkampf trifft sich alle 2 Wochen o
 nline. Wenn Du Dich engagieren möchtest melde Dich gern per mail bei inf
 o@gruene-nordwestmecklenburg.de
CLASS:PUBLIC
DTSTART;TZID=Europe/Berlin:20260427T173000
DTEND;TZID=Europe/Berlin:20260427T183000
DTSTAMP:20260421T142308
END:VEVENT
END:VCALENDAR