BEGIN:VCALENDAR
VERSION:2.0
PRODID:liste-luedersdorf.fuer-die-gruenen.de
METHOD:PUBLISH
BEGIN:VTIMEZONE
TZID:Europe/Berlin
X-LIC-LOCATION:Europe/Berlin
BEGIN:DAYLIGHT
TZOFFSETFROM:+0100
TZOFFSETTO:+0200
TZNAME:CEST
DTSTART:19700329T020000
RRULE:FREQ=YEARLY;INTERVAL=1;BYDAY=-1SU;BYMONTH=3
END:DAYLIGHT
BEGIN:STANDARD
TZOFFSETFROM:+0200
TZOFFSETTO:+0100
TZNAME:CET
DTSTART:19701025T030000
RRULE:FREQ=YEARLY;INTERVAL=1;BYDAY=-1SU;BYMONTH=10
END:STANDARD
END:VTIMEZONE
BEGIN:VEVENT
UID:4561da20949c5891ba5e6e5d4e80603e@liste-luedersdorf.fuer-die-gruenen.de
URL;VALUE=URI:https://liste-luedersdorf.fuer-die-gruenen.de/termine/ag-ve
 ranstaltungen-10/
LOCATION:Online
SUMMARY:AG Veranstaltungen
DESCRIPTION;ALTREP="data:text/html,%3Cp%3EDie%20AG%20Veranstaltungen%20tr
 ifft%20sich%20alle%201-2%20Wochen%20Online%20Montags%2016%3A00%20Uhr.%20W
 enn%20Du%20Lust%20hast%20mitzumachen%20melde%20DIch%20sehr%20gern%20bei%2
 0Hanna%20in%20der%20Gesch%C3%A4ftsstelle%20gf%40gruene-nordwestmecklenbur
 g.de%3C%2Fp%3E":Die AG Veranstaltungen trifft sich alle 1-2 Wochen Online
  Montags 16:00 Uhr. Wenn Du Lust hast mitzumachen melde DIch sehr gern be
 i Hanna in der Geschäftsstelle gf@gruene-nordwestmecklenburg.de
CLASS:PUBLIC
DTSTART;TZID=Europe/Berlin:20260629T160000
DTEND;TZID=Europe/Berlin:20260629T170000
DTSTAMP:20260421T131742
END:VEVENT
END:VCALENDAR